BEGIN:VCALENDAR
VERSION:2.0
PRODID:GIGPRESS 2.0 WORDPRESS PLUGIN
CALSCALE:GREGORIAN
X-WR-TIMEZONE:Etc/GMT
METHOD:PUBLISH
BEGIN:VTIMEZONE
TZID:GMT
BEGIN:STANDARD
DTSTART:20071028T010000
TZOFFSETTO:+0000
TZOFFSETFROM:+0000
END:STANDARD
END:VTIMEZONE
BEGIN:VEVENT
SUMMARY:Waldi Weiz \, Maschinenhaus
DESCRIPTION:
LOCATION:Maschinenhaus\, Berlin\, DE
UID:20260421T180000Z-132-mail@matov.de
URL:https://matov.de
DTSTART;VALUE=DATE-TIME;TZID=GMT:20260421T180000Z
DTEND;VALUE=DATE-TIME;TZID=GMT:20260421T180000Z
DTSTAMP:20260421T082302Z
END:VEVENT
END:VCALENDAR